BEGIN:VCALENDAR
VERSION:2.0
PRODID:-// SupraTix GmbH Events Calendar //supratix.com//
CALSCALE:GREGORIAN
X-WR-CALNAME:Philosophischer Abend
X-WR-TIMEZONE:Europe/Berlin
BEGIN:VEVENT
SUMMARY:Wie ChatBots unser Gehirn verändern – Chancen\, Risiken und neu
 e Wege im Zeitalter der KI
DTSTART:20250417T150000Z
DTEND:20250417T190000Z
DTSTAMP:20250417T150000Z
UID:supratix.5383.events.621b3246-3fe6-11f1-b1ac-0a45b4eb50b7
DESCRIPTION:
LOCATION:SupraTix GmbH\, Ostra-Allee 20\, 01067\, Dresden\, Deutschland
ORGANIZER:
END:VEVENT
END:VCALENDAR
